BEGIN:VCALENDAR
VERSION:2.0
PRODID:-//Info-Sozial - ECPv6.15.20//NONSGML v1.0//EN
CALSCALE:GREGORIAN
METHOD:PUBLISH
X-WR-CALNAME:Info-Sozial
X-ORIGINAL-URL:https://info-sozial.com
X-WR-CALDESC:Veranstaltungen für Info-Sozial
REFRESH-INTERVAL;VALUE=DURATION:PT1H
X-Robots-Tag:noindex
X-PUBLISHED-TTL:PT1H
BEGIN:VTIMEZONE
TZID:Europe/Berlin
BEGIN:DAYLIGHT
TZOFFSETFROM:+0100
TZOFFSETTO:+0200
TZNAME:CEST
DTSTART:20240331T010000
END:DAYLIGHT
BEGIN:STANDARD
TZOFFSETFROM:+0200
TZOFFSETTO:+0100
TZNAME:CET
DTSTART:20241027T010000
END:STANDARD
BEGIN:DAYLIGHT
TZOFFSETFROM:+0100
TZOFFSETTO:+0200
TZNAME:CEST
DTSTART:20250330T010000
END:DAYLIGHT
BEGIN:STANDARD
TZOFFSETFROM:+0200
TZOFFSETTO:+0100
TZNAME:CET
DTSTART:20251026T010000
END:STANDARD
BEGIN:DAYLIGHT
TZOFFSETFROM:+0100
TZOFFSETTO:+0200
TZNAME:CEST
DTSTART:20260329T010000
END:DAYLIGHT
BEGIN:STANDARD
TZOFFSETFROM:+0200
TZOFFSETTO:+0100
TZNAME:CET
DTSTART:20261025T010000
END:STANDARD
END:VTIMEZONE
BEGIN:VEVENT
DTSTART;TZID=Europe/Berlin:20251213T160000
DTEND;TZID=Europe/Berlin:20251213T200000
DTSTAMP:20260424T175129
CREATED:20250731T140229Z
LAST-MODIFIED:20251201T085812Z
UID:709-1765641600-1765656000@info-sozial.com
SUMMARY:Weihnachtsfeier
DESCRIPTION:
URL:https://info-sozial.com/event/weihnachtsfeier/
LOCATION:Clubhaus Diekholzen\, In den Sundern 1\, Diekholzen\, Nds\, 31199
END:VEVENT
END:VCALENDAR