BEGIN:VCALENDAR
VERSION:2.0
PRODID:-//Info-Sozial - ECPv6.15.20//NONSGML v1.0//EN
CALSCALE:GREGORIAN
METHOD:PUBLISH
X-WR-CALNAME:Info-Sozial
X-ORIGINAL-URL:https://info-sozial.com
X-WR-CALDESC:Veranstaltungen für Info-Sozial
REFRESH-INTERVAL;VALUE=DURATION:PT1H
X-Robots-Tag:noindex
X-PUBLISHED-TTL:PT1H
BEGIN:VTIMEZONE
TZID:Europe/Berlin
BEGIN:DAYLIGHT
TZOFFSETFROM:+0100
TZOFFSETTO:+0200
TZNAME:CEST
DTSTART:20250330T010000
END:DAYLIGHT
BEGIN:STANDARD
TZOFFSETFROM:+0200
TZOFFSETTO:+0100
TZNAME:CET
DTSTART:20251026T010000
END:STANDARD
BEGIN:DAYLIGHT
TZOFFSETFROM:+0100
TZOFFSETTO:+0200
TZNAME:CEST
DTSTART:20260329T010000
END:DAYLIGHT
BEGIN:STANDARD
TZOFFSETFROM:+0200
TZOFFSETTO:+0100
TZNAME:CET
DTSTART:20261025T010000
END:STANDARD
BEGIN:DAYLIGHT
TZOFFSETFROM:+0100
TZOFFSETTO:+0200
TZNAME:CEST
DTSTART:20270328T010000
END:DAYLIGHT
BEGIN:STANDARD
TZOFFSETFROM:+0200
TZOFFSETTO:+0100
TZNAME:CET
DTSTART:20271031T010000
END:STANDARD
END:VTIMEZONE
BEGIN:VEVENT
DTSTART;TZID=Europe/Berlin:20260314T150000
DTEND;TZID=Europe/Berlin:20260314T183000
DTSTAMP:20260424T122645
CREATED:20260118T083658Z
LAST-MODIFIED:20260118T092433Z
UID:750-1773500400-1773513000@info-sozial.com
SUMMARY:MV  Mitgliederversammlung
DESCRIPTION:Alle weiteren Informationen gibt es auch bei Kristof Josewski\, Tel. 0175 2422289\, Mail grille64@yahoo.de
URL:https://info-sozial.com/event/mv-mitgliederversammlung/
LOCATION:Clubhaus Diekholzen\, In den Sundern 1\, Diekholzen\, Nds\, 31199
END:VEVENT
END:VCALENDAR