BEGIN:VCALENDAR
VERSION:2.0
PRODID:-//Info-Sozial - ECPv6.15.20//NONSGML v1.0//EN
CALSCALE:GREGORIAN
METHOD:PUBLISH
X-WR-CALNAME:Info-Sozial
X-ORIGINAL-URL:https://info-sozial.com
X-WR-CALDESC:Veranstaltungen für Info-Sozial
REFRESH-INTERVAL;VALUE=DURATION:PT1H
X-Robots-Tag:noindex
X-PUBLISHED-TTL:PT1H
BEGIN:VTIMEZONE
TZID:Europe/Berlin
BEGIN:DAYLIGHT
TZOFFSETFROM:+0100
TZOFFSETTO:+0200
TZNAME:CEST
DTSTART:20250330T010000
END:DAYLIGHT
BEGIN:STANDARD
TZOFFSETFROM:+0200
TZOFFSETTO:+0100
TZNAME:CET
DTSTART:20251026T010000
END:STANDARD
BEGIN:DAYLIGHT
TZOFFSETFROM:+0100
TZOFFSETTO:+0200
TZNAME:CEST
DTSTART:20260329T010000
END:DAYLIGHT
BEGIN:STANDARD
TZOFFSETFROM:+0200
TZOFFSETTO:+0100
TZNAME:CET
DTSTART:20261025T010000
END:STANDARD
BEGIN:DAYLIGHT
TZOFFSETFROM:+0100
TZOFFSETTO:+0200
TZNAME:CEST
DTSTART:20270328T010000
END:DAYLIGHT
BEGIN:STANDARD
TZOFFSETFROM:+0200
TZOFFSETTO:+0100
TZNAME:CET
DTSTART:20271031T010000
END:STANDARD
END:VTIMEZONE
BEGIN:VEVENT
DTSTART;TZID=Europe/Berlin:20260529T150000
DTEND;TZID=Europe/Berlin:20260529T183000
DTSTAMP:20260422T202005
CREATED:20260118T085105Z
LAST-MODIFIED:20260131T090642Z
UID:756-1780066800-1780079400@info-sozial.com
SUMMARY:Infoveranstaltung  \,\, Vortrag zum Suchdienst des DRK "
DESCRIPTION:Alle weiteren Informationen gibt es auch bei Kristof Josewski\, Tel. 0175 2422289\, Mail grille64@yahoo.de
URL:https://info-sozial.com/event/infoveranstaltung-2/
LOCATION:Deutsches Rotes Kreuz\, DRK Ortsverein Diekholzen\, Alfelder Straße 16\, Diekholzen\, Nds\, 31199\, Germany
END:VEVENT
END:VCALENDAR